BEGIN:VCALENDAR
VERSION:2.0
PRODID:-//Nottingham Schools Trust - ECPv4.6.26//NONSGML v1.0//EN
CALSCALE:GREGORIAN
METHOD:PUBLISH
X-WR-CALNAME:Nottingham Schools Trust
X-ORIGINAL-URL:http://www.nottinghamschoolstrust.org.uk
X-WR-CALDESC:Events for Nottingham Schools Trust
BEGIN:VEVENT
DTSTART;TZID=Europe/London:20241206T130000
DTEND;TZID=Europe/London:20241206T150000
DTSTAMP:20260421T091407
CREATED:20240819T105732Z
LAST-MODIFIED:20240819T113438Z
UID:10190-1733490000-1733497200@www.nottinghamschoolstrust.org.uk
SUMMARY:DSL Update Training (Online Session)
DESCRIPTION:To book: Designated Safeguarding Lead Update – Events – Universe \n
URL:http://www.nottinghamschoolstrust.org.uk/event/dsl-update-training-13/
END:VEVENT
END:VCALENDAR