BEGIN:VCALENDAR
VERSION:2.0
PRODID:-//Nottingham Schools Trust - ECPv4.6.26//NONSGML v1.0//EN
CALSCALE:GREGORIAN
METHOD:PUBLISH
X-WR-CALNAME:Nottingham Schools Trust
X-ORIGINAL-URL:http://www.nottinghamschoolstrust.org.uk
X-WR-CALDESC:Events for Nottingham Schools Trust
BEGIN:VEVENT
DTSTART;TZID=Europe/London:20250203T133000
DTEND;TZID=Europe/London:20250203T150000
DTSTAMP:20260420T074147
CREATED:20240815T151101Z
LAST-MODIFIED:20241204T123730Z
UID:10077-1738589400-1738594800@www.nottinghamschoolstrust.org.uk
SUMMARY:Phonics Network
DESCRIPTION:Booking link: https://www.universe.com/events/phonics-network-meeting-tickets-RD3W4X \n
URL:http://www.nottinghamschoolstrust.org.uk/event/phonics-network-11/
LOCATION:Nottingham Nursery School & Training Centre\, Denman Street West\, Radford\, Nottingham\, NG7 3AB
END:VEVENT
END:VCALENDAR