BEGIN:VCALENDAR
VERSION:2.0
PRODID:-//Nottingham Schools Trust - ECPv4.6.26//NONSGML v1.0//EN
CALSCALE:GREGORIAN
METHOD:PUBLISH
X-WR-CALNAME:Nottingham Schools Trust
X-ORIGINAL-URL:http://www.nottinghamschoolstrust.org.uk
X-WR-CALDESC:Events for Nottingham Schools Trust
BEGIN:VEVENT
DTSTART;TZID=Europe/London:20250306T083000
DTEND;TZID=Europe/London:20250306T153000
DTSTAMP:20260420T074145
CREATED:20240815T145451Z
LAST-MODIFIED:20250116T090858Z
UID:10049-1741249800-1741275000@www.nottinghamschoolstrust.org.uk
SUMMARY:Assessment Leads Network
DESCRIPTION:Booking link: https://www.universe.com/events/assessment-leads-network-meeting-tickets-N67X2T \n
URL:http://www.nottinghamschoolstrust.org.uk/event/assessment-leads-network-10/
LOCATION:Nottingham Nursery School & Training Centre\, Denman Street West\, Radford\, Nottingham\, NG7 3AB
END:VEVENT
BEGIN:VEVENT
DTSTART;TZID=Europe/London:20250306T160000
DTEND;TZID=Europe/London:20250306T170000
DTSTAMP:20260420T074145
CREATED:20240819T111104Z
LAST-MODIFIED:20240819T111104Z
UID:10209-1741276800-1741280400@www.nottinghamschoolstrust.org.uk
SUMMARY:Cyber Security Training (Online Session)
DESCRIPTION:To book: Cyber Security Training (CST) | EM Cyber Secure (eastmidlandscybersecure.co.uk) \n
URL:http://www.nottinghamschoolstrust.org.uk/event/cyber-security-training-online-session-2/
END:VEVENT
END:VCALENDAR