BEGIN:VCALENDAR
VERSION:2.0
PRODID:-//Nottingham Schools Trust - ECPv4.6.26//NONSGML v1.0//EN
CALSCALE:GREGORIAN
METHOD:PUBLISH
X-WR-CALNAME:Nottingham Schools Trust
X-ORIGINAL-URL:http://www.nottinghamschoolstrust.org.uk
X-WR-CALDESC:Events for Nottingham Schools Trust
BEGIN:VEVENT
DTSTART;TZID=Europe/London:20250318T090000
DTEND;TZID=Europe/London:20250318T150000
DTSTAMP:20260420T074734
CREATED:20240819T105106Z
LAST-MODIFIED:20240819T105106Z
UID:10180-1742288400-1742310000@www.nottinghamschoolstrust.org.uk
SUMMARY:DSL Part 2 Training
DESCRIPTION:To book: Designated Safeguarding Lead-Part 2 – Events – Universe \n
URL:http://www.nottinghamschoolstrust.org.uk/event/dsl-part-2-training-10/
LOCATION:Castle Cavendish
END:VEVENT
END:VCALENDAR