BEGIN:VCALENDAR
VERSION:2.0
PRODID:-//Nottingham Schools Trust - ECPv4.6.26//NONSGML v1.0//EN
CALSCALE:GREGORIAN
METHOD:PUBLISH
X-WR-CALNAME:Nottingham Schools Trust
X-ORIGINAL-URL:http://www.nottinghamschoolstrust.org.uk
X-WR-CALDESC:Events for Nottingham Schools Trust
BEGIN:VEVENT
DTSTART;TZID=Europe/London:20250321T093000
DTEND;TZID=Europe/London:20250321T113000
DTSTAMP:20260420T075437
CREATED:20240819T123416Z
LAST-MODIFIED:20240819T123416Z
UID:10263-1742549400-1742556600@www.nottinghamschoolstrust.org.uk
SUMMARY:NST Full Directors Meeting
DESCRIPTION:
URL:http://www.nottinghamschoolstrust.org.uk/event/nst-full-directors-meeting-13/
LOCATION:Nottingham Nursery School & Training Centre\, Denman Street West\, Radford\, Nottingham\, NG7 3AB
END:VEVENT
BEGIN:VEVENT
DTSTART;TZID=Europe/London:20250321T131500
DTEND;TZID=Europe/London:20250321T160000
DTSTAMP:20260420T075437
CREATED:20240820T113822Z
LAST-MODIFIED:20240820T113822Z
UID:10276-1742562900-1742572800@www.nottinghamschoolstrust.org.uk
SUMMARY:Y2 Moderation Workshop
DESCRIPTION:To book: Y2 Moderation Workshop – Events – Universe \n
URL:http://www.nottinghamschoolstrust.org.uk/event/y2-moderation-workshop/
LOCATION:Nottingham Nursery School & Training Centre\, Denman Street West\, Radford\, Nottingham\, NG7 3AB
END:VEVENT
END:VCALENDAR