BEGIN:VCALENDAR
VERSION:2.0
PRODID:-//Nottingham Schools Trust - ECPv4.6.26//NONSGML v1.0//EN
CALSCALE:GREGORIAN
METHOD:PUBLISH
X-WR-CALNAME:Nottingham Schools Trust
X-ORIGINAL-URL:http://www.nottinghamschoolstrust.org.uk
X-WR-CALDESC:Events for Nottingham Schools Trust
BEGIN:VEVENT
DTSTART;TZID=Europe/London:20250325T090000
DTEND;TZID=Europe/London:20250325T120000
DTSTAMP:20260420T075613
CREATED:20240819T101256Z
LAST-MODIFIED:20240819T101256Z
UID:10136-1742893200-1742904000@www.nottinghamschoolstrust.org.uk
SUMMARY:F2 Agreement Trialling
DESCRIPTION:Topic – Communication and Language\, and Maths \nTo book: Early Years Course Booking – Course Details – Nottingham City Council \n
URL:http://www.nottinghamschoolstrust.org.uk/event/f2-agreement-trialling-3/
LOCATION:Castle Cavendish
END:VEVENT
BEGIN:VEVENT
DTSTART;TZID=Europe/London:20250325T130000
DTEND;TZID=Europe/London:20250325T160000
DTSTAMP:20260420T075613
CREATED:20240819T101415Z
LAST-MODIFIED:20240819T101415Z
UID:10138-1742907600-1742918400@www.nottinghamschoolstrust.org.uk
SUMMARY:F2 Agreement Trialling
DESCRIPTION:Topic – Communication and Language\, and Maths \nTo book: Early Years Course Booking – Course Details – Nottingham City Council \n
URL:http://www.nottinghamschoolstrust.org.uk/event/f2-agreement-trialling-4/
LOCATION:Castle Cavendish
END:VEVENT
END:VCALENDAR