BEGIN:VCALENDAR
VERSION:2.0
PRODID:-//Nottingham Schools Trust - ECPv4.6.26//NONSGML v1.0//EN
CALSCALE:GREGORIAN
METHOD:PUBLISH
X-WR-CALNAME:Nottingham Schools Trust
X-ORIGINAL-URL:http://www.nottinghamschoolstrust.org.uk
X-WR-CALDESC:Events for Nottingham Schools Trust
BEGIN:VEVENT
DTSTART;TZID=Europe/London:20250326T090000
DTEND;TZID=Europe/London:20250326T113000
DTSTAMP:20260420T074820
CREATED:20240819T101537Z
LAST-MODIFIED:20240819T101537Z
UID:10140-1742979600-1742988600@www.nottinghamschoolstrust.org.uk
SUMMARY:F2 Agreement Trialling - Online Session
DESCRIPTION:Topic – Communication and Language\, and Maths \nTo book: Early Years Course Booking – Course Details – Nottingham City Council \n
URL:http://www.nottinghamschoolstrust.org.uk/event/f2-agreement-trialling-online-session-3/
END:VEVENT
BEGIN:VEVENT
DTSTART;TZID=Europe/London:20250326T130000
DTEND;TZID=Europe/London:20250326T153000
DTSTAMP:20260420T074820
CREATED:20240819T101653Z
LAST-MODIFIED:20240819T101653Z
UID:10142-1742994000-1743003000@www.nottinghamschoolstrust.org.uk
SUMMARY:F2 Agreement Trialling - Online Session
DESCRIPTION:Topic – Communication and Language\, and Maths \nTo book: Early Years Course Booking – Course Details – Nottingham City Council \n
URL:http://www.nottinghamschoolstrust.org.uk/event/f2-agreement-trialling-online-session-4/
END:VEVENT
END:VCALENDAR