BEGIN:VCALENDAR
VERSION:2.0
PRODID:-//Nottingham Schools Trust - ECPv4.6.26//NONSGML v1.0//EN
CALSCALE:GREGORIAN
METHOD:PUBLISH
X-WR-CALNAME:Nottingham Schools Trust
X-ORIGINAL-URL:http://www.nottinghamschoolstrust.org.uk
X-WR-CALDESC:Events for Nottingham Schools Trust
BEGIN:VEVENT
DTSTART;TZID=Europe/London:20250930T140000
DTEND;TZID=Europe/London:20250930T160000
DTSTAMP:20260424T204844
CREATED:20250701T110942Z
LAST-MODIFIED:20250701T110942Z
UID:10792-1759240800-1759248000@www.nottinghamschoolstrust.org.uk
SUMMARY:History Network Meeting
DESCRIPTION:For more info/to book: History Network Meeting – Universe \n
URL:http://www.nottinghamschoolstrust.org.uk/event/history-network-meeting-4/
END:VEVENT
END:VCALENDAR