BEGIN:VCALENDAR
VERSION:2.0
PRODID:-//Nottingham Schools Trust - ECPv4.6.26//NONSGML v1.0//EN
CALSCALE:GREGORIAN
METHOD:PUBLISH
X-WR-CALNAME:Nottingham Schools Trust
X-ORIGINAL-URL:http://www.nottinghamschoolstrust.org.uk
X-WR-CALDESC:Events for Nottingham Schools Trust
BEGIN:VEVENT
DTSTART;TZID=Europe/London:20251009T133000
DTEND;TZID=Europe/London:20251009T150000
DTSTAMP:20260422T071811
CREATED:20250701T111550Z
LAST-MODIFIED:20250701T111550Z
UID:10798-1760016600-1760022000@www.nottinghamschoolstrust.org.uk
SUMMARY:PSHE Network Meeting
DESCRIPTION:For more info / to book: PSHE Network Meeting – Universe \n
URL:http://www.nottinghamschoolstrust.org.uk/event/pshe-network-meeting-9/
END:VEVENT
END:VCALENDAR