BEGIN:VCALENDAR
VERSION:2.0
PRODID:-//Nottingham Schools Trust - ECPv4.6.26//NONSGML v1.0//EN
CALSCALE:GREGORIAN
METHOD:PUBLISH
X-WR-CALNAME:Nottingham Schools Trust
X-ORIGINAL-URL:http://www.nottinghamschoolstrust.org.uk
X-WR-CALDESC:Events for Nottingham Schools Trust
BEGIN:VEVENT
DTSTART;TZID=Europe/London:20251014T093000
DTEND;TZID=Europe/London:20251014T113000
DTSTAMP:20260422T000419
CREATED:20250701T134038Z
LAST-MODIFIED:20250701T134038Z
UID:10881-1760434200-1760441400@www.nottinghamschoolstrust.org.uk
SUMMARY:NST Finance\, Audit and Risk Committee Meeting
DESCRIPTION:
URL:http://www.nottinghamschoolstrust.org.uk/event/nst-finance-audit-and-risk-committee-meeting-11/
END:VEVENT
BEGIN:VEVENT
DTSTART;TZID=Europe/London:20251014T133000
DTEND;TZID=Europe/London:20251014T153000
DTSTAMP:20260422T000419
CREATED:20250703T080046Z
LAST-MODIFIED:20250703T080046Z
UID:10903-1760448600-1760455800@www.nottinghamschoolstrust.org.uk
SUMMARY:Art Network Meeting
DESCRIPTION:For further details / to book: Art Network Meeting – Universe \n
URL:http://www.nottinghamschoolstrust.org.uk/event/art-network-meeting-10/
END:VEVENT
END:VCALENDAR